BEGIN:VCALENDAR
VERSION:2.0
PRODID:-//ChamberMaster//Event Calendar 2.0//EN
METHOD:PUBLISH
X-PUBLISHED-TTL:P3D
REFRESH-INTERVAL:P3D
CALSCALE:GREGORIAN
BEGIN:VEVENT
DTSTART;VALUE=DATE:20170421
DTEND;VALUE=DATE:20170422
TRANSP:TRANSPARENT
X-MICROSOFT-CDO-ALLDAYEVENT:TRUE
SUMMARY:What Happened After Once Upon a Time
DESCRIPTION:Ellis County Children's Theater presents its spring production\, "What Happened After Once Upon a Time?".\n\nThis fairy tale is fractured!  Rapunzel is a diva\, Cinderella is a clean freak\, the Three Little Pigs are hypochondriacs\, Little Red Riding Hood is a lawyer defending the Wolf\, and more!\n\nAll ages will enjoy the hysterical idiosyncrasies as we find out what happened after they lived happily ever after.
X-ALT-DESC;FMTTYPE=text/html:Ellis County Children&#39\;s Theater presents its spring production\, &quot\;What Happened After Once Upon a Time?&quot\;.<br />\nThis fairy tale is fractured! &nbsp\;Rapunzel is a diva\, Cinderella is a clean freak\, the Three Little Pigs are hypochondriacs\, Little Red Riding Hood is a lawyer defending the Wolf\, and more!<br />\nAll ages will enjoy the hysterical idiosyncrasies as we find out what happened after they lived happily ever after.
LOCATION:Waxahachie High School Fine Arts Center
UID:e.2608.173
SEQUENCE:3
DTSTAMP:20260426T041132Z
URL:https://business.ennis-chamber.com/events/details/what-happened-after-once-upon-a-time-173
END:VEVENT

END:VCALENDAR
