BEGIN:VCALENDAR
VERSION:2.0
PRODID:-//ChamberMaster//Event Calendar 2.0//EN
METHOD:PUBLISH
X-PUBLISHED-TTL:P3D
REFRESH-INTERVAL:P3D
CALSCALE:GREGORIAN
BEGIN:VEVENT
DTSTART;VALUE=DATE:20190403
DTEND;VALUE=DATE:20190404
TRANSP:TRANSPARENT
X-MICROSOFT-CDO-ALLDAYEVENT:TRUE
SUMMARY:Wear Purple Day
DESCRIPTION:Please wear Purple April 3rd\, take pictures and share them with us on social media:\n\n	FB: Relay For Life of Ennis\, TX\n	Instagram: RelayofEnnisTX\n	Twitter: @RelayofEnnisTX
X-ALT-DESC;FMTTYPE=text/html:<strong>Please wear Purple April 3<sup>rd</sup>\, take pictures and share them with us on social media:</strong>\n<ul>\n	<li style="margin-left:0in\;"><strong>FB: Relay For Life of Ennis\, TX</strong></li>\n	<li style="margin-left:0in\;"><strong>Instagram: RelayofEnnisTX</strong></li>\n	<li style="margin-left:0in\;"><strong>Twitter: @RelayofEnnisTX</strong></li>\n</ul>\n
LOCATION:
UID:e.2608.2893
SEQUENCE:3
DTSTAMP:20260424T080255Z
URL:https://business.ennis-chamber.com/events/details/wear-purple-day-2893
END:VEVENT

END:VCALENDAR
