BEGIN:VCALENDAR
VERSION:2.0
PRODID:-//ChamberMaster//Event Calendar 2.0//EN
METHOD:PUBLISH
X-PUBLISHED-TTL:P3D
REFRESH-INTERVAL:P3D
CALSCALE:GREGORIAN
BEGIN:VEVENT
DTSTART:20181007T000000Z
DTEND:20181007T020000Z
X-MICROSOFT-CDO-ALLDAYEVENT:FALSE
SUMMARY:Waxhachie Symphony Association ft. Saint Louis Brass
DESCRIPTION:The Waxahahcie Symphony presents: The Saint Louis Brass. Take two trumpets\, one French horn\, a trombone\, and a tuba - put them in the hands of five virtuoso performers - and you have the Saint Louis Brass. Dispelling the myth that brass music is aimed solely at classical music lovers\, their performances are punctuated by humorous antics that audiences love.
X-ALT-DESC;FMTTYPE=text/html:The Waxahahcie Symphony presents: The Saint Louis Brass. Take two trumpets\, one French horn\, a trombone\, and a tuba - put them in the hands of five virtuoso performers - and you have the Saint Louis Brass. Dispelling the myth that brass music is aimed solely at classical music lovers\, their performances are punctuated by humorous antics that audiences love.
LOCATION:SAGU Hagee Communication Center 499 East University Ave. Waxahachie\, TX 75765
UID:e.2608.2845
SEQUENCE:3
DTSTAMP:20260424T194743Z
URL:https://business.ennis-chamber.com/events/details/waxhachie-symphony-association-ft-saint-louis-brass-2845
END:VEVENT

END:VCALENDAR
