BEGIN:VCALENDAR
VERSION:2.0
PRODID:-//ChamberMaster//Event Calendar 2.0//EN
METHOD:PUBLISH
X-PUBLISHED-TTL:P3D
REFRESH-INTERVAL:P3D
CALSCALE:GREGORIAN
BEGIN:VEVENT
DTSTART:20200218T230000Z
DTEND:20200219T010000Z
X-MICROSOFT-CDO-ALLDAYEVENT:FALSE
SUMMARY:Victory Physical Therapy Open House
DESCRIPTION:Victory Physical Therapy \n\nOpen House &\n\nGrand Re-Opening
X-ALT-DESC;FMTTYPE=text/html:Victory Physical Therapy&nbsp\;<br />\nOpen House &amp\;<br />\nGrand Re-Opening<br />\n&nbsp\;
LOCATION:1101 South Clay Suite B Ennis\, TX 75119
UID:e.2608.3247
SEQUENCE:3
DTSTAMP:20260423T114211Z
URL:https://business.ennis-chamber.com/events/details/victory-physical-therapy-open-house-3247
END:VEVENT

END:VCALENDAR
