BEGIN:VCALENDAR
VERSION:2.0
PRODID:-//ChamberMaster//Event Calendar 2.0//EN
METHOD:PUBLISH
X-PUBLISHED-TTL:P3D
REFRESH-INTERVAL:P3D
CALSCALE:GREGORIAN
BEGIN:VEVENT
DTSTART:20171110T160000Z
DTEND:20171110T163000Z
X-MICROSOFT-CDO-ALLDAYEVENT:FALSE
SUMMARY:Veterans Day Ceremony
DESCRIPTION:Ennis Mayor Angie Juenemann will preside over the program.\n\n\n\nThere will be special music\, including bag pipes and the American Legion Color Guard. A wreath will be laid at the base star.\n\n\n\nArmy First Sargent Ed Lane\, who serves on the board of the Home for the Brave\, in Ennis\, is the keynote speaker. \n\n\n\nThe Veterans of Foreign Wars (VFW)\, American Legion   Chism-Landers Post 361\, the American Legion Riders and the new Marine Corps League\, will all participate in the ceremony.
X-ALT-DESC;FMTTYPE=text/html:Ennis Mayor Angie Juenemann will preside over the program.<br />\n<br />\nThere will be special music\, including bag pipes and the American Legion Color Guard. A wreath will be laid at the base star.<br />\n<br />\nArmy First Sargent Ed Lane\, who serves on the board of the Home for the Brave\, in Ennis\, is the keynote speaker.&nbsp\;<br />\n<br />\nThe Veterans of Foreign Wars (VFW)\, American Legion &ndash\; Chism-Landers Post 361\, the American Legion Riders and the new Marine Corps League\, will all participate in the ceremony.
LOCATION:Veterans Memorial Park 2301 Ennis Parkway Ennis\, TX 75119
UID:e.2608.688
SEQUENCE:3
DTSTAMP:20260425T155425Z
URL:https://business.ennis-chamber.com/events/details/veterans-day-ceremony-688
END:VEVENT

END:VCALENDAR
