BEGIN:VCALENDAR
VERSION:2.0
PRODID:-//ChamberMaster//Event Calendar 2.0//EN
METHOD:PUBLISH
X-PUBLISHED-TTL:P3D
REFRESH-INTERVAL:P3D
CALSCALE:GREGORIAN
BEGIN:VEVENT
DTSTART:20190629T120000Z
DTEND:20190629T200000Z
X-MICROSOFT-CDO-ALLDAYEVENT:FALSE
SUMMARY:Third Annual Big Bass Fishing Tournament Fundraiser Benefitting Runnin' Free Ranch
DESCRIPTION:Third Annual Big Bass Tournament\n\nBenefitting Runnin' Free Ranch
X-ALT-DESC;FMTTYPE=text/html:Third Annual Big Bass Tournament<br />\nBenefitting Runnin&#39\; Free Ranch
LOCATION:Lake Clark\, Ennis\, TX
UID:e.2608.2913
SEQUENCE:3
DTSTAMP:20260424T031439Z
URL:https://business.ennis-chamber.com/events/details/third-annual-big-bass-fishing-tournament-fundraiser-benefitting-runnin-free-ranch-2913
END:VEVENT

END:VCALENDAR
