BEGIN:VCALENDAR
VERSION:2.0
PRODID:-//ChamberMaster//Event Calendar 2.0//EN
METHOD:PUBLISH
X-PUBLISHED-TTL:P3D
REFRESH-INTERVAL:P3D
CALSCALE:GREGORIAN
BEGIN:VEVENT
DTSTART:20191114T231500Z
DTEND:20191115T000000Z
X-MICROSOFT-CDO-ALLDAYEVENT:FALSE
SUMMARY:The Storage Center Main Street Ribbon Cutting
DESCRIPTION:Ribbon Cutting
X-ALT-DESC;FMTTYPE=text/html:Ribbon Cutting&nbsp\;
LOCATION:3000 NE Main St Ennis\, TX 75119
UID:e.2608.3223
SEQUENCE:3
DTSTAMP:20260423T172354Z
URL:https://business.ennis-chamber.com/events/details/the-storage-center-main-street-ribbon-cutting-3223
END:VEVENT

END:VCALENDAR
