BEGIN:VCALENDAR
VERSION:2.0
PRODID:-//ChamberMaster//Event Calendar 2.0//EN
METHOD:PUBLISH
X-PUBLISHED-TTL:P3D
REFRESH-INTERVAL:P3D
CALSCALE:GREGORIAN
BEGIN:VEVENT
DTSTART:20191018T160000Z
DTEND:20191018T230000Z
X-MICROSOFT-CDO-ALLDAYEVENT:FALSE
SUMMARY:The Shop at the Raphael House Open House & Ribbon Cutting
DESCRIPTION:The Shop at the Raphael House\n\nOpen House & Ribbon Cutting\n\nRibbon Cutting will be at 1:00 PM
X-ALT-DESC;FMTTYPE=text/html:The Shop at the Raphael House<br />\nOpen House &amp\; Ribbon Cutting<br />\nRibbon Cutting will be at 1:00 PM
LOCATION:500 West Ennis Avenue at Preston Street Ennis\, TX 75119
UID:e.2608.3211
SEQUENCE:3
DTSTAMP:20260423T190449Z
URL:https://business.ennis-chamber.com/events/details/the-shop-at-the-raphael-house-open-house-ribbon-cutting-3211
END:VEVENT

END:VCALENDAR
