BEGIN:VCALENDAR
VERSION:2.0
PRODID:-//ChamberMaster//Event Calendar 2.0//EN
METHOD:PUBLISH
X-PUBLISHED-TTL:P3D
REFRESH-INTERVAL:P3D
CALSCALE:GREGORIAN
BEGIN:VEVENT
DTSTART:20190504T220000Z
DTEND:20190505T030000Z
X-MICROSOFT-CDO-ALLDAYEVENT:FALSE
SUMMARY:The Hoefer House Hangout
DESCRIPTION:The Hoefer House Hangout\n\n"A shopping experience you do not want to miss!"
X-ALT-DESC;FMTTYPE=text/html:The Hoefer House Hangout<br />\n&quot\;A shopping experience you do not want to miss!&quot\;
LOCATION:310 W. Denton St. Ennis\, TX 75119
UID:e.2608.2904
SEQUENCE:3
DTSTAMP:20260424T052543Z
URL:https://business.ennis-chamber.com/events/details/the-hoefer-house-hangout-2904
END:VEVENT

END:VCALENDAR
