BEGIN:VCALENDAR
VERSION:2.0
PRODID:-//ChamberMaster//Event Calendar 2.0//EN
METHOD:PUBLISH
X-PUBLISHED-TTL:P3D
REFRESH-INTERVAL:P3D
CALSCALE:GREGORIAN
BEGIN:VEVENT
DTSTART:20201028T220000Z
DTEND:20201029T000000Z
X-MICROSOFT-CDO-ALLDAYEVENT:FALSE
SUMMARY:The Goodman Team brokered by eXp Realty Ribbon Cutting & Open House Business After Hours
DESCRIPTION:
X-ALT-DESC;FMTTYPE=text/html:
LOCATION:101 S. Dallas St. Ennis\, TX 75119
UID:e.2608.3272
SEQUENCE:3
DTSTAMP:20260422T202722Z
URL:https://business.ennis-chamber.com/events/details/the-goodman-team-brokered-by-exp-realty-ribbon-cutting-open-house-business-after-hours-3272
END:VEVENT

END:VCALENDAR
