BEGIN:VCALENDAR
VERSION:2.0
PRODID:-//ChamberMaster//Event Calendar 2.0//EN
METHOD:PUBLISH
X-PUBLISHED-TTL:P3D
REFRESH-INTERVAL:P3D
CALSCALE:GREGORIAN
BEGIN:VEVENT
DTSTART;VALUE=DATE:20190515
DTEND;VALUE=DATE:20190902
TRANSP:TRANSPARENT
X-MICROSOFT-CDO-ALLDAYEVENT:TRUE
SUMMARY:Teens Work Out Free All Summer Long
DESCRIPTION:Planet Fitness\n\nTeen Summer Challenge\n\nAges 15-18 work out totally free!!
X-ALT-DESC;FMTTYPE=text/html:Planet Fitness<br />\nTeen Summer Challenge<br />\nAges 15-18 work out totally free!!
LOCATION:Planet Fitness 701 W. Ennis Ave Ennis\, TX 75119
UID:e.2608.2907
SEQUENCE:3
DTSTAMP:20260423T205454Z
URL:https://business.ennis-chamber.com/events/details/teens-work-out-free-all-summer-long-2907
END:VEVENT

END:VCALENDAR
