BEGIN:VCALENDAR
VERSION:2.0
PRODID:-//ChamberMaster//Event Calendar 2.0//EN
METHOD:PUBLISH
X-PUBLISHED-TTL:P3D
REFRESH-INTERVAL:P3D
CALSCALE:GREGORIAN
BEGIN:VEVENT
DTSTART:20170928T230000Z
DTEND:20170929T000000Z
X-MICROSOFT-CDO-ALLDAYEVENT:FALSE
SUMMARY:Taste of Ennis
DESCRIPTION:Our annual fundraiser\, Taste of Ennis\, is a "taste-a-bite" event.  Attendees sample bite-sized portions of Ennis' best restaurants.  We raise the largest portion through sponsorships.  Please call Judi at 972 875 0218 if you are interested in sponsoring or participating with your restaurant.  We hope to see you there!
X-ALT-DESC;FMTTYPE=text/html:<strong style="color: rgb(165\, 42\, 42)\; font-size: 20px\;">Our annual fundraiser\, Taste of Ennis\, is a &quot\;taste-a-bite&quot\; event. &nbsp\;Attendees sample bite-sized portions of Ennis&#39\; best restaurants. &nbsp\;We raise the largest portion through sponsorships. &nbsp\;Please call Judi at 972 875 0218 if you are interested in sponsoring or participating with your restaurant. &nbsp\;We hope to see you there!</strong>
LOCATION:Knights of Columbus Hall 850 N Fwy Service Rd\, Ennis\, TX 75119
UID:e.2608.80
SEQUENCE:3
DTSTAMP:20260425T192522Z
URL:https://business.ennis-chamber.com/events/details/taste-of-ennis-80
END:VEVENT

END:VCALENDAR
