BEGIN:VCALENDAR
VERSION:2.0
PRODID:-//ChamberMaster//Event Calendar 2.0//EN
METHOD:PUBLISH
X-PUBLISHED-TTL:P3D
REFRESH-INTERVAL:P3D
CALSCALE:GREGORIAN
BEGIN:VEVENT
DTSTART:20190926T230000Z
DTEND:20190927T000000Z
X-MICROSOFT-CDO-ALLDAYEVENT:FALSE
SUMMARY:Taste of Ennis
DESCRIPTION:Our annual fundraiser\, Taste of Ennis\, is a "taste-a-bite" event.  Attendees sample bite-sized portions of Ennis' best restaurants.  We raise the largest portion through sponsorships.  Please call Judi at 972 875 0218 if you are interested in sponsoring or participating with your restaurant.  We hope to see you there!
X-ALT-DESC;FMTTYPE=text/html:<p><span style="color: rgb(165\, 42\, 42)\;"><span style="font-size: 20px\;"><strong>Our annual fundraiser\, Taste of Ennis\, is a &quot\;taste-a-bite&quot\; event. &nbsp\;Attendees sample bite-sized portions of Ennis&#39\; best restaurants. &nbsp\;We raise the largest portion through sponsorships. &nbsp\;Please call Judi at 972 875 0218 if you are interested in sponsoring or participating with your restaurant. &nbsp\;We hope to see you there!</strong></span></span></p>\n
LOCATION:Knights of Columbus Hall 850 N Fwy Service Rd\, Ennis\, TX 75119
UID:e.2608.60
SEQUENCE:3
DTSTAMP:20260423T205657Z
URL:https://business.ennis-chamber.com/events/details/taste-of-ennis-09-26-2019-60
END:VEVENT

END:VCALENDAR
