BEGIN:VCALENDAR
VERSION:2.0
PRODID:-//ChamberMaster//Event Calendar 2.0//EN
METHOD:PUBLISH
X-PUBLISHED-TTL:P3D
REFRESH-INTERVAL:P3D
CALSCALE:GREGORIAN
BEGIN:VEVENT
DTSTART:20190413T233000Z
DTEND:20190413T233000Z
X-MICROSOFT-CDO-ALLDAYEVENT:FALSE
SUMMARY:Starry Night Gala
DESCRIPTION:Starry Night Gala\n\nCelebrating 20 Years of Providing \n\nJustice\, Hope and Healing\n\nBenefitting Ellis County Chidren's Advocacy Center
X-ALT-DESC;FMTTYPE=text/html:Starry Night Gala<br />\nCelebrating 20 Years of Providing&nbsp\;<br />\nJustice\, Hope and Healing<br />\nBenefitting Ellis County Chidren&#39\;s Advocacy Center
LOCATION:Midlothian Conference Center 1 Community Drive Midlothian\, Texas
UID:e.2608.2884
SEQUENCE:3
DTSTAMP:20260424T075024Z
URL:https://business.ennis-chamber.com/events/details/starry-night-gala-2884
END:VEVENT

END:VCALENDAR
