BEGIN:VCALENDAR
VERSION:2.0
PRODID:-//ChamberMaster//Event Calendar 2.0//EN
METHOD:PUBLISH
X-PUBLISHED-TTL:P3D
REFRESH-INTERVAL:P3D
CALSCALE:GREGORIAN
BEGIN:VEVENT
DTSTART:20190724T163000Z
DTEND:20190724T183000Z
X-MICROSOFT-CDO-ALLDAYEVENT:FALSE
SUMMARY:Spyglass of Ennis Grand Opening & Ribbon Cutting
DESCRIPTION:Spyglass of Ennis Grand Opening & Ribbon Cutting
X-ALT-DESC;FMTTYPE=text/html:Spyglass of Ennis Grand Opening &amp\; Ribbon Cutting<br />\n&nbsp\;&nbsp\;&nbsp\;&nbsp\;
LOCATION:Spyglass of Ennis 1803 W. Ennis Ave Ennis\, TX 75119
UID:e.2608.2937
SEQUENCE:3
DTSTAMP:20260424T004056Z
URL:https://business.ennis-chamber.com/events/details/spyglass-of-ennis-grand-opening-ribbon-cutting-2937
END:VEVENT

END:VCALENDAR
