BEGIN:VCALENDAR
VERSION:2.0
PRODID:-//ChamberMaster//Event Calendar 2.0//EN
METHOD:PUBLISH
X-PUBLISHED-TTL:P3D
REFRESH-INTERVAL:P3D
CALSCALE:GREGORIAN
BEGIN:VEVENT
DTSTART:20190510T163000Z
DTEND:20190510T180000Z
X-MICROSOFT-CDO-ALLDAYEVENT:FALSE
SUMMARY:Spring Luncheon 2019
DESCRIPTION:Spring Luncheon\n\nGuest Speaker:\n\nRetired Congressman\n\nJoe Barton
X-ALT-DESC;FMTTYPE=text/html:Spring Luncheon<br />\nGuest Speaker:<br />\nRetired Congressman<br />\nJoe Barton
LOCATION:Knights of Columbus Hall 850 S I-45 Ennis\, TX 75119
UID:e.2608.2911
SEQUENCE:3
DTSTAMP:20260424T051939Z
URL:https://business.ennis-chamber.com/events/details/spring-luncheon-2019-2911
END:VEVENT

END:VCALENDAR
