BEGIN:VCALENDAR
VERSION:2.0
PRODID:-//ChamberMaster//Event Calendar 2.0//EN
METHOD:PUBLISH
X-PUBLISHED-TTL:P3D
REFRESH-INTERVAL:P3D
CALSCALE:GREGORIAN
BEGIN:VEVENT
DTSTART:20190406T150000Z
DTEND:20190406T180000Z
X-MICROSOFT-CDO-ALLDAYEVENT:FALSE
SUMMARY:Spring Book Sale
DESCRIPTION:Friends of the Ennis Public Library\n\nSpring Book Sale\n\nMost books will be sold $2 per bag. \n\nClassics & Antiques will be priced as marked.
X-ALT-DESC;FMTTYPE=text/html:Friends of the Ennis Public Library<br />\nSpring Book Sale<br />\nMost books will be sold $2 per bag.&nbsp\;<br />\nClassics &amp\; Antiques will be priced as marked.&nbsp\;
LOCATION:Ennis Public Library 501 W. Ennis Ave Ennis\, TX 75119
UID:e.2608.2882
SEQUENCE:3
DTSTAMP:20260424T075131Z
URL:https://business.ennis-chamber.com/events/details/spring-book-sale-2882
END:VEVENT

END:VCALENDAR
