BEGIN:VCALENDAR
VERSION:2.0
PRODID:-//ChamberMaster//Event Calendar 2.0//EN
METHOD:PUBLISH
X-PUBLISHED-TTL:P3D
REFRESH-INTERVAL:P3D
CALSCALE:GREGORIAN
BEGIN:VEVENT
DTSTART:20170420T223000Z
DTEND:20170421T003000Z
X-MICROSOFT-CDO-ALLDAYEVENT:FALSE
SUMMARY:Southern Region Walk to End Alzheimer's Volunteer Round-up
DESCRIPTION:Held annually in more than 600 communities nationwide\, the Alzheimer's Association Walk to End Alzheimer's  is the world's largest event to raise awareness and funds for Alzheimer's care\, support and research. This inspiring event calls on participants of all ages and abilities to join the fight against the disease!\n\nWhen you participate in Walk\, your fundraising dollars fuel our mission\, and your participation in the event helps to change the level of Alzheimer's awareness in your community. The Alzheimer's Association provides free\, easy-to-use tools and staff support to help participants reach their fundraising goal. While there is no fee to register\, we encourage participants to fundraise in order to contribute to the cause and raise awareness.\n\nThe Southern Region Walk to End Alzheimer's Volunteer Round-Up\n\nThe Southern Region Walk to End Alzheimer's will be held on September 30th in Ennis\, TX and is organized by volunteers from Ellis\, Navarro and Kaufman Counties committed to supporting families living with Alzheimer's disease. Whether you will be at a Walk to participate on the day-of or you want to help plan your local Walk experience\, there is a volunteer option for you. The Volunteer Round-Up is your opportunity to learn more about the various volunteer opportunities available for the Southern Region Walk to End Alzheimer's. We will have hot dogs on the grill and enthusiastic committee members available to answer your questions.\n\nJoin the Planning Committee\n\nUnable to join us on a Walk day? Join our planning committee and help execute the event! Committee opportunities include Logistics\, Teams\, Sponsorship\, Marketing & Promotion and Mission.\n\n \n\nVolunteer on Walk Day\n\nJoin the fight to end Alzheimer's. Each year we bring Walk to End Alzheimer's to over 600 communities in the U.S.\, and we could not do it without our dedicated volunteers. Raise awareness and bring your passion for the cause on Walk day.\n\nFor more information\, call 214-540-2434
X-ALT-DESC;FMTTYPE=text/html:<p>Held annually in more than 600 communities nationwide\, the Alzheimer&#39\;s Association Walk to End Alzheimer&rsquo\;s&reg\; is the world&rsquo\;s largest event to raise awareness and funds for Alzheimer&rsquo\;s care\, support and research. This inspiring event calls on participants of all ages and abilities to join the fight against the disease!</p>\n\n<p>When you participate in Walk\, your fundraising dollars fuel&nbsp\;<a href="http://act.alz.org/site/PageServer?pagename=walk_money" rel="noopener noreferrer nofollow" style="color: rgb(2\, 120\, 184)\; text-decoration-line: none\; padding-top: 0px\;" target="_blank">our mission</a>\, and your participation in the event helps to change the level of Alzheimer&rsquo\;s awareness in your community. The Alzheimer&rsquo\;s Association provides free\, easy-to-use tools and staff support to help participants reach their fundraising goal. While there is no fee to register\, we encourage participants to fundraise in order to contribute to the cause and raise awareness.</p>\n\n<p><strong>The Southern Region Walk to End Alzheimer&#39\;s Volunteer Round-Up</strong></p>\n\n<p>The Southern Region Walk to End Alzheimer&#39\;s will be held on September 30th in Ennis\, TX and is organized by volunteers from Ellis\, Navarro and Kaufman Counties committed to supporting families living with Alzheimer&#39\;s disease. Whether you will be at a Walk to participate on the day-of or you want to help plan your local Walk experience\, there is a volunteer option for you. The Volunteer Round-Up is your opportunity to learn more about the various volunteer opportunities available for the Southern Region Walk to End Alzheimer&#39\;s. We will have hot dogs on the grill and enthusiastic committee members available to answer your questions.</p>\n\n<p><strong>Join the Planning Committee</strong></p>\n\n<p>Unable to join us on a Walk day? Join our planning committee and help execute the event! Committee opportunities include Logistics\, Teams\, Sponsorship\, Marketing &amp\; Promotion and Mission.<br />\n&nbsp\;</p>\n\n<p><strong>Volunteer on Walk Day</strong><br />\nJoin the fight to end Alzheimer&#39\;s. Each year we bring Walk to End Alzheimer&#39\;s to over 600 communities in the U.S.\, and we could not do it without our dedicated volunteers. Raise awareness and bring your passion for the cause on Walk day.</p>\n\n<p><strong>For more information\, call 214-540-2434</strong></p>\n
LOCATION:J Bar C Cowboy Church 121 E FM 813 Palmer\, TX 75152
UID:e.2608.222
SEQUENCE:3
DTSTAMP:20260426T041738Z
URL:https://business.ennis-chamber.com/events/details/southern-region-walk-to-end-alzheimer-s-volunteer-round-up-222
END:VEVENT

END:VCALENDAR
