BEGIN:VCALENDAR
VERSION:2.0
PRODID:-//ChamberMaster//Event Calendar 2.0//EN
METHOD:PUBLISH
X-PUBLISHED-TTL:P3D
REFRESH-INTERVAL:P3D
CALSCALE:GREGORIAN
BEGIN:VEVENT
DTSTART:20170729T153000Z
DTEND:20170729T170000Z
X-MICROSOFT-CDO-ALLDAYEVENT:FALSE
SUMMARY:Southern Region Walk to End Alzheimer's Team Kick-off
DESCRIPTION:Held annually in more than 600 communities nationwide\, the Alzheimer's Association Walk to End Alzheimer's  is the world's largest event to raise awareness and funds for Alzheimer's care\, support and research. This inspiring event calls on participants of all ages and abilities to join the fight against the disease! When you participate in Walk\, your fundraising dollars fuel our mission\, and your participation in the event helps to change the level of Alzheimer's awareness in your community. The Alzheimer's Association provides free\, easy-to-use tools and staff support to help participants reach their fundraising goal. While there is no fee to register\, we encourage participants to fundraise in order to contribute to the cause and raise awareness. The Southern Region Walk to End Alzheimer's is the first to be held in Ennis\, TX. The Walk will be held on Saturday\, September 30th in Downtown Ennis. The Team Captain Kick-off Party on July 29th is an opportunity to register your team for The Walk\, gather valuable information and get energized for The Walk!
X-ALT-DESC;FMTTYPE=text/html:Held annually in more than 600 communities nationwide\, the Alzheimer&#39\;s Association Walk to End Alzheimer&rsquo\;s&reg\; is the world&rsquo\;s largest event to raise awareness and funds for Alzheimer&rsquo\;s care\, support and research. This inspiring event calls on participants of all ages and abilities to join the fight against the disease! When you participate in Walk\, your fundraising dollars fuel our mission\, and your participation in the event helps to change the level of Alzheimer&rsquo\;s awareness in your community. The Alzheimer&rsquo\;s Association provides free\, easy-to-use tools and staff support to help participants reach their fundraising goal. While there is no fee to register\, we encourage participants to fundraise in order to contribute to the cause and raise awareness. The Southern Region Walk to End Alzheimer&#39\;s is the first to be held in Ennis\, TX. The Walk will be held on Saturday\, September 30th in Downtown Ennis. The Team Captain Kick-off Party on July 29th is an opportunity to register your team for The Walk\, gather valuable information and get energized for The Walk!
LOCATION:Ennis Public Library 501W. Ennis Avenue Ennis\, TX 75119
UID:e.2608.559
SEQUENCE:3
DTSTAMP:20260425T230202Z
URL:https://business.ennis-chamber.com/events/details/southern-region-walk-to-end-alzheimer-s-team-kick-off-559
END:VEVENT

END:VCALENDAR
