BEGIN:VCALENDAR
VERSION:2.0
PRODID:-//ChamberMaster//Event Calendar 2.0//EN
METHOD:PUBLISH
X-PUBLISHED-TTL:P3D
REFRESH-INTERVAL:P3D
CALSCALE:GREGORIAN
BEGIN:VEVENT
DTSTART:20190622T220000Z
DTEND:20190623T040000Z
X-MICROSOFT-CDO-ALLDAYEVENT:FALSE
SUMMARY:Sokol Back Patio Party
DESCRIPTION:Sokol Back Patio Party
X-ALT-DESC;FMTTYPE=text/html:Sokol Back Patio Party&nbsp\;
LOCATION:Sokol Activity Center 2622 E Hwy 34 Ennis\, TX 75119
UID:e.2608.2931
SEQUENCE:3
DTSTAMP:20260424T030013Z
URL:https://business.ennis-chamber.com/events/details/sokol-back-patio-party-2931
END:VEVENT

END:VCALENDAR
