BEGIN:VCALENDAR
VERSION:2.0
PRODID:-//ChamberMaster//Event Calendar 2.0//EN
METHOD:PUBLISH
X-PUBLISHED-TTL:P3D
REFRESH-INTERVAL:P3D
CALSCALE:GREGORIAN
BEGIN:VEVENT
DTSTART:20171115T010000Z
DTEND:20171115T010000Z
X-MICROSOFT-CDO-ALLDAYEVENT:FALSE
SUMMARY:Shuffleboard Tournament
DESCRIPTION:SHUFFLEBOARD TOURNAMENT EVERY TUESDAY @ 7PM $10 PER PERSON TEAM PLAY / BLIND DRAW DOUBLE ELIMINATION KJT #35 BAR For more information or to confirm event call 972-875-7982.
X-ALT-DESC;FMTTYPE=text/html:SHUFFLEBOARD TOURNAMENT EVERY TUESDAY @ 7PM $10 PER PERSON TEAM PLAY / BLIND DRAW DOUBLE ELIMINATION KJT #35 BAR For more information or to confirm event call 972-875-7982.
LOCATION:KJT Auditorium 1216 S. Paris Street Ennis\, TX 75119
UID:e.2608.601
SEQUENCE:3
DTSTAMP:20260425T155731Z
URL:https://business.ennis-chamber.com/events/details/shuffleboard-tournament-11-14-2017-601
END:VEVENT

END:VCALENDAR
