BEGIN:VCALENDAR
VERSION:2.0
PRODID:-//ChamberMaster//Event Calendar 2.0//EN
METHOD:PUBLISH
X-PUBLISHED-TTL:P3D
REFRESH-INTERVAL:P3D
CALSCALE:GREGORIAN
BEGIN:VEVENT
DTSTART:20190323T130000Z
DTEND:20190323T190000Z
X-MICROSOFT-CDO-ALLDAYEVENT:FALSE
SUMMARY:Shilen 13th Annual Swap Meet
DESCRIPTION:Shilen 13th Annual Swap Meet
X-ALT-DESC;FMTTYPE=text/html:Shilen 13th Annual Swap Meet
LOCATION:Shilen Rifles\, Inc. 2501 North Interstate Hwy 45 Ennis\, TX 75119
UID:e.2608.2891
SEQUENCE:3
DTSTAMP:20260424T123206Z
URL:https://business.ennis-chamber.com/events/details/shilen-13th-annual-swap-meet-2891
END:VEVENT

END:VCALENDAR
