BEGIN:VCALENDAR
VERSION:2.0
PRODID:-//ChamberMaster//Event Calendar 2.0//EN
METHOD:PUBLISH
X-PUBLISHED-TTL:P3D
REFRESH-INTERVAL:P3D
CALSCALE:GREGORIAN
BEGIN:VEVENT
DTSTART:20200312T153000Z
DTEND:20200312T163000Z
X-MICROSOFT-CDO-ALLDAYEVENT:FALSE
SUMMARY:Schlotzsky's Ribbon Cutting
DESCRIPTION:Schlotzsky's Ribbon Cutting & Grand Opening
X-ALT-DESC;FMTTYPE=text/html:Schlotzsky&#39\;s Ribbon Cutting &amp\; Grand Opening&nbsp\;
LOCATION:Schlotzsky's 400 N I-45 Suite 100 Ennis\, TX 75119
UID:e.2608.3248
SEQUENCE:3
DTSTAMP:20260423T095303Z
URL:https://business.ennis-chamber.com/events/details/schlotzsky-s-ribbon-cutting-3248
END:VEVENT

END:VCALENDAR
