BEGIN:VCALENDAR
VERSION:2.0
PRODID:-//ChamberMaster//Event Calendar 2.0//EN
METHOD:PUBLISH
X-PUBLISHED-TTL:P3D
REFRESH-INTERVAL:P3D
CALSCALE:GREGORIAN
BEGIN:VEVENT
DTSTART:20200109T150000Z
DTEND:20200110T030000Z
X-MICROSOFT-CDO-ALLDAYEVENT:FALSE
SUMMARY:Schlotzsky's Ennis Grand Opening
DESCRIPTION:The Schlotzsky's  in Ennis\, owned by Cary & Jackie Albert\, is hosting its grand opening event Thursday\, January 9 with exclusive specials and discounts for the first 100 guests
X-ALT-DESC;FMTTYPE=text/html:The Schlotzsky&rsquo\;s&reg\; in Ennis\, owned by Cary &amp\; Jackie Albert\, is hosting its grand opening event Thursday\, January 9 with exclusive specials and discounts for the first 100 guests
LOCATION:400 N I-45\, Suite 100\, Ennis\, TX 75119
UID:e.2608.3237
SEQUENCE:3
DTSTAMP:20260423T135300Z
URL:https://business.ennis-chamber.com/events/details/schlotzsky-s-ennis-grand-opening-3237
END:VEVENT

END:VCALENDAR
