BEGIN:VCALENDAR
VERSION:2.0
PRODID:-//ChamberMaster//Event Calendar 2.0//EN
METHOD:PUBLISH
X-PUBLISHED-TTL:P3D
REFRESH-INTERVAL:P3D
CALSCALE:GREGORIAN
BEGIN:VEVENT
DTSTART:20171215T160000Z
DTEND:20171215T180000Z
X-MICROSOFT-CDO-ALLDAYEVENT:FALSE
SUMMARY:SANTA IS COMING TO NWLA
DESCRIPTION:New Way Leadership Academy will be hosting a very special visitor on December 15th. Santa Clause will be stopping by for any last minute request and photos. So avoid the mad rush at the malls and join us for some hot chocolate\, cookies and SANTA!! Pictures with Santa are $5 for individual and $10 for groups. The pictures will be mailed to you. Sponsored by NWLA Parents In Action
X-ALT-DESC;FMTTYPE=text/html:New Way Leadership Academy will be hosting a very special visitor on December 15th. Santa Clause will be stopping by for any last minute request and photos. So avoid the mad rush at the malls and join us for some hot chocolate\, cookies and SANTA!! Pictures with Santa are $5 for individual and $10 for groups. The pictures will be mailed to you. Sponsored by NWLA Parents In Action
LOCATION:104 N.E. Main St Ennis\, TX 75119
UID:e.2608.705
SEQUENCE:3
DTSTAMP:20260425T134853Z
URL:https://business.ennis-chamber.com/events/details/santa-is-coming-to-nwla-705
END:VEVENT

END:VCALENDAR
