BEGIN:VCALENDAR
VERSION:2.0
PRODID:-//ChamberMaster//Event Calendar 2.0//EN
METHOD:PUBLISH
X-PUBLISHED-TTL:P3D
REFRESH-INTERVAL:P3D
CALSCALE:GREGORIAN
BEGIN:VEVENT
DTSTART:20210730T190000Z
DTEND:20210730T200000Z
X-MICROSOFT-CDO-ALLDAYEVENT:FALSE
SUMMARY:Ribbon Cutting TK Kapture
DESCRIPTION:
X-ALT-DESC;FMTTYPE=text/html:
LOCATION:207 NW Main\, Ennis\, TX 75119
UID:e.2608.3306
SEQUENCE:3
DTSTAMP:20260420T051355Z
URL:https://business.ennis-chamber.com/events/details/ribbon-cutting-tk-kapture-3306
END:VEVENT

END:VCALENDAR
