BEGIN:VCALENDAR
VERSION:2.0
PRODID:-//ChamberMaster//Event Calendar 2.0//EN
METHOD:PUBLISH
X-PUBLISHED-TTL:P3D
REFRESH-INTERVAL:P3D
CALSCALE:GREGORIAN
BEGIN:VEVENT
DTSTART:20191029T220000Z
DTEND:20191029T233000Z
X-MICROSOFT-CDO-ALLDAYEVENT:FALSE
SUMMARY:Ribbon Cutting & Open House for Quest Counseling 2
DESCRIPTION:Ribbon Cutting & Open House\n\nLight Snacks will be provided
X-ALT-DESC;FMTTYPE=text/html:Ribbon Cutting &amp\; Open House<br />\nLight Snacks will be provided
LOCATION:Quest Counseling 2 2106 W. Ennis Ave Ennis\, TX 75119
UID:e.2608.3215
SEQUENCE:3
DTSTAMP:20260423T205845Z
URL:https://business.ennis-chamber.com/events/details/ribbon-cutting-open-house-for-quest-counseling-2-3215
END:VEVENT

END:VCALENDAR
