BEGIN:VCALENDAR
VERSION:2.0
PRODID:-//ChamberMaster//Event Calendar 2.0//EN
METHOD:PUBLISH
X-PUBLISHED-TTL:P3D
REFRESH-INTERVAL:P3D
CALSCALE:GREGORIAN
BEGIN:VEVENT
DTSTART:20220330T220000Z
DTEND:20220330T223000Z
X-MICROSOFT-CDO-ALLDAYEVENT:FALSE
SUMMARY:Ribbon Cutting/Grand Opening Crystal's Beauty Salon & Master Cuts
DESCRIPTION:
X-ALT-DESC;FMTTYPE=text/html:
LOCATION:501 W. Brown St. Ennis\, TX 75119
UID:e.2608.3332
SEQUENCE:3
DTSTAMP:20260419T140513Z
URL:https://business.ennis-chamber.com/events/details/ribbon-cutting-grand-opening-crystal-s-beauty-salon-master-cuts-3332
END:VEVENT

END:VCALENDAR
