BEGIN:VCALENDAR
VERSION:2.0
PRODID:-//ChamberMaster//Event Calendar 2.0//EN
METHOD:PUBLISH
X-PUBLISHED-TTL:P3D
REFRESH-INTERVAL:P3D
CALSCALE:GREGORIAN
BEGIN:VEVENT
DTSTART:20180125T163000Z
DTEND:20180125T173000Z
X-MICROSOFT-CDO-ALLDAYEVENT:FALSE
SUMMARY:Ribbon Cutting & Grand Opening at Freedom Properties\, Inc.
DESCRIPTION:
X-ALT-DESC;FMTTYPE=text/html:
LOCATION:103 Avenue F. Ennis\, TX 75119
UID:e.2608.1754
SEQUENCE:3
DTSTAMP:20260425T135317Z
URL:https://business.ennis-chamber.com/events/details/ribbon-cutting-grand-opening-at-freedom-properties-inc-1754
END:VEVENT

END:VCALENDAR
