BEGIN:VCALENDAR
VERSION:2.0
PRODID:-//ChamberMaster//Event Calendar 2.0//EN
METHOD:PUBLISH
X-PUBLISHED-TTL:P3D
REFRESH-INTERVAL:P3D
CALSCALE:GREGORIAN
BEGIN:VEVENT
DTSTART:20180215T160000Z
DTEND:20180216T050000Z
X-MICROSOFT-CDO-ALLDAYEVENT:FALSE
SUMMARY:Ribbon Cutting for Pampered Pets Grooming
DESCRIPTION:
X-ALT-DESC;FMTTYPE=text/html:
LOCATION:2203 W. Ennis Ave. Suite 100 B
UID:e.2608.1771
SEQUENCE:3
DTSTAMP:20260425T102552Z
URL:https://business.ennis-chamber.com/events/details/ribbon-cutting-for-pampered-pets-grooming-1771
END:VEVENT

END:VCALENDAR
