BEGIN:VCALENDAR
VERSION:2.0
PRODID:-//ChamberMaster//Event Calendar 2.0//EN
METHOD:PUBLISH
X-PUBLISHED-TTL:P3D
REFRESH-INTERVAL:P3D
CALSCALE:GREGORIAN
BEGIN:VEVENT
DTSTART:20191121T231500Z
DTEND:20191122T001500Z
X-MICROSOFT-CDO-ALLDAYEVENT:FALSE
SUMMARY:Ribbon Cutting for Gameroom Outfitters
DESCRIPTION:Ribbon Cutting for Gameroom Outfitters
X-ALT-DESC;FMTTYPE=text/html:Ribbon Cutting for Gameroom Outfitters
LOCATION:Gameroom Outfitters 200 E Ennis Avenue Suite C Ennis\, TX 75119
UID:e.2608.3225
SEQUENCE:3
DTSTAMP:20260423T172234Z
URL:https://business.ennis-chamber.com/events/details/ribbon-cutting-for-gameroom-outfitters-3225
END:VEVENT

END:VCALENDAR
