BEGIN:VCALENDAR
VERSION:2.0
PRODID:-//ChamberMaster//Event Calendar 2.0//EN
METHOD:PUBLISH
X-PUBLISHED-TTL:P3D
REFRESH-INTERVAL:P3D
CALSCALE:GREGORIAN
BEGIN:VEVENT
DTSTART:20190917T150000Z
DTEND:20190917T160000Z
X-MICROSOFT-CDO-ALLDAYEVENT:FALSE
SUMMARY:Ribbon Cutting Ceremony for Covenant Christian Academy
DESCRIPTION:Join Us for a Ribbon Cutting Ceremony
X-ALT-DESC;FMTTYPE=text/html:Join Us for a Ribbon Cutting Ceremony
LOCATION:Covenant Christian Academy 1107 S. Clay St Ennis\, TX 75119
UID:e.2608.2951
SEQUENCE:3
DTSTAMP:20260423T205949Z
URL:https://business.ennis-chamber.com/events/details/ribbon-cutting-ceremony-for-covenant-christian-academy-2951
END:VEVENT

END:VCALENDAR
