BEGIN:VCALENDAR
VERSION:2.0
PRODID:-//ChamberMaster//Event Calendar 2.0//EN
METHOD:PUBLISH
X-PUBLISHED-TTL:P3D
REFRESH-INTERVAL:P3D
CALSCALE:GREGORIAN
BEGIN:VEVENT
DTSTART:20190124T231500Z
DTEND:20190125T001500Z
X-MICROSOFT-CDO-ALLDAYEVENT:FALSE
SUMMARY:Ribbon Cutting & Business After Hours - The Hoefer House
DESCRIPTION:Ribbon Cutting & Business After Hours \n\nLight Refreshments and Wine will be served
X-ALT-DESC;FMTTYPE=text/html:Ribbon Cutting &amp\; Business After Hours&nbsp\;<br />\nLight Refreshments and Wine will be served
LOCATION:The Hoefer House 310 W. Denton St. Ennis\, TX 75119
UID:e.2608.2871
SEQUENCE:3
DTSTAMP:20260424T144345Z
URL:https://business.ennis-chamber.com/events/details/ribbon-cutting-business-after-hours-the-hoefer-house-2871
END:VEVENT

END:VCALENDAR
