BEGIN:VCALENDAR
VERSION:2.0
PRODID:-//ChamberMaster//Event Calendar 2.0//EN
METHOD:PUBLISH
X-PUBLISHED-TTL:P3D
REFRESH-INTERVAL:P3D
CALSCALE:GREGORIAN
BEGIN:VEVENT
DTSTART:20181204T231500Z
DTEND:20181205T001500Z
X-MICROSOFT-CDO-ALLDAYEVENT:FALSE
SUMMARY:Ribbon Cutting & Business After Hours-The Culpepper House
DESCRIPTION:Ribbon Cutting & Business After Hours \n\nThe Culpepper House
X-ALT-DESC;FMTTYPE=text/html:Ribbon Cutting &amp\; Business After Hours&nbsp\;<br />\nThe Culpepper House
LOCATION:709 N. Dallas St. Ennis\, TX 75119
UID:e.2608.2868
SEQUENCE:3
DTSTAMP:20260424T162059Z
URL:https://business.ennis-chamber.com/events/details/ribbon-cutting-business-after-hours-the-culpepper-house-2868
END:VEVENT

END:VCALENDAR
