BEGIN:VCALENDAR
VERSION:2.0
PRODID:-//ChamberMaster//Event Calendar 2.0//EN
METHOD:PUBLISH
X-PUBLISHED-TTL:P3D
REFRESH-INTERVAL:P3D
CALSCALE:GREGORIAN
BEGIN:VEVENT
DTSTART:20190528T210000Z
DTEND:20190528T220000Z
X-MICROSOFT-CDO-ALLDAYEVENT:FALSE
SUMMARY:Ribbon Cutting & Business After Hours for Lone Star Events & Tents
DESCRIPTION:Ribbon Cutting & Business After Hours \n\nLone Star Events & Tents\n\nCocktails & finger foods will be served
X-ALT-DESC;FMTTYPE=text/html:Ribbon Cutting &amp\; Business After Hours&nbsp\;<br />\nLone Star Events &amp\; Tents<br />\nCocktails &amp\; finger foods will be served
LOCATION:Lone Star Events & Tents 106 N. Breckenridge St. Ennis\, TX 75119
UID:e.2608.2921
SEQUENCE:3
DTSTAMP:20260424T053042Z
URL:https://business.ennis-chamber.com/events/details/ribbon-cutting-business-after-hours-for-lone-star-events-tents-2921
END:VEVENT

END:VCALENDAR
