BEGIN:VCALENDAR
VERSION:2.0
PRODID:-//ChamberMaster//Event Calendar 2.0//EN
METHOD:PUBLISH
X-PUBLISHED-TTL:P3D
REFRESH-INTERVAL:P3D
CALSCALE:GREGORIAN
BEGIN:VEVENT
DTSTART:20190919T221500Z
DTEND:20190919T231500Z
X-MICROSOFT-CDO-ALLDAYEVENT:FALSE
SUMMARY:Ribbon Cutting & Business After Hours for J Browning Realty
DESCRIPTION:Ribbon Cutting & Business After Hours\n\nJ Browning Realty
X-ALT-DESC;FMTTYPE=text/html:Ribbon Cutting &amp\; Business After Hours<br />\nJ Browning Realty
LOCATION:Ennis Chamber of Commerce 108 Chamber of Commerce Drive Ennis\, TX 75119
UID:e.2608.2945
SEQUENCE:3
DTSTAMP:20260423T210103Z
URL:https://business.ennis-chamber.com/events/details/ribbon-cutting-business-after-hours-for-j-browning-realty-2945
END:VEVENT

END:VCALENDAR
