BEGIN:VCALENDAR
VERSION:2.0
PRODID:-//ChamberMaster//Event Calendar 2.0//EN
METHOD:PUBLISH
X-PUBLISHED-TTL:P3D
REFRESH-INTERVAL:P3D
CALSCALE:GREGORIAN
BEGIN:VEVENT
DTSTART:20190821T220000Z
DTEND:20190822T000000Z
X-MICROSOFT-CDO-ALLDAYEVENT:FALSE
SUMMARY:Ribbon Cutting & Business After Hours for Impact Health Direct Primary Care\, PLLC
DESCRIPTION:
X-ALT-DESC;FMTTYPE=text/html:
LOCATION:
UID:e.2608.2943
SEQUENCE:3
DTSTAMP:20260423T225531Z
URL:https://business.ennis-chamber.com/events/details/ribbon-cutting-business-after-hours-for-impact-health-direct-primary-care-pllc-2943
END:VEVENT

END:VCALENDAR
