BEGIN:VCALENDAR
VERSION:2.0
PRODID:-//ChamberMaster//Event Calendar 2.0//EN
METHOD:PUBLISH
X-PUBLISHED-TTL:P3D
REFRESH-INTERVAL:P3D
CALSCALE:GREGORIAN
BEGIN:VEVENT
DTSTART:20180714T150000Z
DTEND:20180714T160000Z
X-MICROSOFT-CDO-ALLDAYEVENT:FALSE
SUMMARY:Ribbon Cutting at NTW Driver Education Center
DESCRIPTION:Please join us to welcome NTW Driver Education Center to Ennis and to the Ennis Chamber of Commerce!
X-ALT-DESC;FMTTYPE=text/html:Please join us to welcome NTW&nbsp\;Driver Education Center to Ennis and to the Ennis Chamber of Commerce!
LOCATION:305B E. Knox Street Ennis\, Texas 75119
UID:e.2608.2833
SEQUENCE:3
DTSTAMP:20260425T011424Z
URL:https://business.ennis-chamber.com/events/details/ribbon-cutting-at-ntw-driver-education-center-2833
END:VEVENT

END:VCALENDAR
