BEGIN:VCALENDAR
VERSION:2.0
PRODID:-//ChamberMaster//Event Calendar 2.0//EN
METHOD:PUBLISH
X-PUBLISHED-TTL:P3D
REFRESH-INTERVAL:P3D
CALSCALE:GREGORIAN
BEGIN:VEVENT
DTSTART:20170928T000000Z
DTEND:20170928T010000Z
X-MICROSOFT-CDO-ALLDAYEVENT:FALSE
SUMMARY:Replacement Airport Community Meeting
DESCRIPTION:The community is invited to participate in a discussion regarding the Ennis Municipal Airport Replacement Project\,\n\n\n	Discussion will include status of the exisating airpoirt and reasons for considering its relocation.\n	Possible locations to be considered for a new airport.\n	Citizen input on where to locate the Ennis airport.
X-ALT-DESC;FMTTYPE=text/html:<p>The community is invited to participate in a discussion regarding the Ennis Municipal Airport Replacement Project\,</p>\n\n<ul>\n	<li>Discussion will include status of the exisating airpoirt and reasons for considering its relocation.</li>\n	<li>Possible locations to be considered for a new airport.</li>\n	<li>Citizen input on where to locate the Ennis airport.</li>\n</ul>\n
LOCATION:Ennis Public Library 501 W. Ennis Ave. Ennis\, TX 75119
UID:e.2608.590
SEQUENCE:3
DTSTAMP:20260425T192648Z
URL:https://business.ennis-chamber.com/events/details/replacement-airport-community-meeting-590
END:VEVENT

END:VCALENDAR
