BEGIN:VCALENDAR
VERSION:2.0
PRODID:-//ChamberMaster//Event Calendar 2.0//EN
METHOD:PUBLISH
X-PUBLISHED-TTL:P3D
REFRESH-INTERVAL:P3D
CALSCALE:GREGORIAN
BEGIN:VEVENT
DTSTART:20190711T223000Z
DTEND:20190712T000000Z
X-MICROSOFT-CDO-ALLDAYEVENT:FALSE
SUMMARY:Reopening & Open House Ellis County Courthouse
DESCRIPTION:Reopening & Open House \n\nThe Historic Ellis County Courthouse
X-ALT-DESC;FMTTYPE=text/html:Reopening &amp\; Open House&nbsp\;<br />\nThe Historic Ellis County Courthouse
LOCATION:101 W. Main St. Waxahachie\, TX 75165
UID:e.2608.2936
SEQUENCE:3
DTSTAMP:20260424T003755Z
URL:https://business.ennis-chamber.com/events/details/reopening-open-house-ellis-county-courthouse-2936
END:VEVENT

END:VCALENDAR
