BEGIN:VCALENDAR
VERSION:2.0
PRODID:-//ChamberMaster//Event Calendar 2.0//EN
METHOD:PUBLISH
X-PUBLISHED-TTL:P3D
REFRESH-INTERVAL:P3D
CALSCALE:GREGORIAN
BEGIN:VEVENT
DTSTART:20190427T210000Z
DTEND:20190428T050000Z
X-MICROSOFT-CDO-ALLDAYEVENT:FALSE
SUMMARY:Relay for Life
DESCRIPTION:Relay For Life
X-ALT-DESC;FMTTYPE=text/html:Relay For Life
LOCATION:Veteran's Memorial Park Ennis\, TX 75119
UID:e.2608.2879
SEQUENCE:3
DTSTAMP:20260424T095336Z
URL:https://business.ennis-chamber.com/events/details/relay-for-life-2879
END:VEVENT

END:VCALENDAR
