BEGIN:VCALENDAR
VERSION:2.0
PRODID:-//ChamberMaster//Event Calendar 2.0//EN
METHOD:PUBLISH
X-PUBLISHED-TTL:P3D
REFRESH-INTERVAL:P3D
CALSCALE:GREGORIAN
BEGIN:VEVENT
DTSTART:20170810T150000Z
DTEND:20170810T160000Z
X-MICROSOFT-CDO-ALLDAYEVENT:FALSE
SUMMARY:Re-Grand Opening for Ennis Insurance - Allstate
DESCRIPTION:
X-ALT-DESC;FMTTYPE=text/html:
LOCATION:1206 S. Clay Ennis\, TX 75119
UID:e.2608.561
SEQUENCE:3
DTSTAMP:20260425T211247Z
URL:https://business.ennis-chamber.com/events/details/re-grand-opening-for-ennis-insurance-allstate-561
END:VEVENT

END:VCALENDAR
