BEGIN:VCALENDAR
VERSION:2.0
PRODID:-//ChamberMaster//Event Calendar 2.0//EN
METHOD:PUBLISH
X-PUBLISHED-TTL:P3D
REFRESH-INTERVAL:P3D
CALSCALE:GREGORIAN
BEGIN:VEVENT
DTSTART:20171012T220000Z
DTEND:20171013T020000Z
X-MICROSOFT-CDO-ALLDAYEVENT:FALSE
SUMMARY:PreStage Fan Fest
DESCRIPTION:The City of Ennis and Texas Motorplex are partnering up for another family-friendly PreStage Fan Fest in Downtown Ennis in advance of the 32nd Anniversary AAA Texas NHRA Fall Nationals.\n\nStreets will be blocked off in Historic Downtown Ennis for fans to wander between NHRA pro and sportsman cars\, food trucks\, music and more.
X-ALT-DESC;FMTTYPE=text/html:<span>The City of Ennis and Texas Motorplex are partnering up for another family-friendly PreStage Fan Fest in Downtown Ennis in advance of the 32nd Anniversary AAA Texas NHRA Fall Nationals.<br />\nStreets will be blocked off in Historic Downtown Ennis for fans to wander between NHRA pro and sportsman cars\, food trucks\, music and more. </span>
LOCATION:Historic Downtown Ennis 119 N. Dallas Street Ennis\, TX 75119
UID:e.2608.641
SEQUENCE:3
DTSTAMP:20260425T192450Z
URL:https://business.ennis-chamber.com/events/details/prestage-fan-fest-641
END:VEVENT

END:VCALENDAR
