BEGIN:VCALENDAR
VERSION:2.0
PRODID:-//ChamberMaster//Event Calendar 2.0//EN
METHOD:PUBLISH
X-PUBLISHED-TTL:P3D
REFRESH-INTERVAL:P3D
CALSCALE:GREGORIAN
BEGIN:VEVENT
DTSTART:20190511T150000Z
DTEND:20190511T170000Z
X-MICROSOFT-CDO-ALLDAYEVENT:FALSE
SUMMARY:Police and Community Relations
DESCRIPTION:WHAT TO DO WHEN YOU ARE STOPPED\n\nPolice and Community Relations
X-ALT-DESC;FMTTYPE=text/html:WHAT TO DO WHEN YOU ARE STOPPED<br />\nPolice and Community Relations
LOCATION:Ennis Chamber of Commerce 108 Chamber of Commerce Dr Ennis\, TX 75119
UID:e.2608.2919
SEQUENCE:3
DTSTAMP:20260424T052303Z
URL:https://business.ennis-chamber.com/events/details/police-and-community-relations-2919
END:VEVENT

END:VCALENDAR
