BEGIN:VCALENDAR
VERSION:2.0
PRODID:-//ChamberMaster//Event Calendar 2.0//EN
METHOD:PUBLISH
X-PUBLISHED-TTL:P3D
REFRESH-INTERVAL:P3D
CALSCALE:GREGORIAN
BEGIN:VEVENT
DTSTART:20191110T200000Z
DTEND:20191111T000000Z
X-MICROSOFT-CDO-ALLDAYEVENT:FALSE
SUMMARY:Pie Palooza
DESCRIPTION:NOVEMBER IS HOMELESSNESS AWARENESS MONTH! Join us at Pie Palooza for an afternoon of family fun hosted by the Local Homeless Coalition in Ellis County. We'll have pies to buy\, pies to throw\, pies to eat! Face Painting\, Bounce Houses\, Games and Live Music Visit with organizations and ministries that help the homeless and those living on the edge of homelessness. Enjoy some pie\, play some games and find out more about the assistance and solutions in Ellis County.
X-ALT-DESC;FMTTYPE=text/html:NOVEMBER IS HOMELESSNESS AWARENESS MONTH! Join us at Pie Palooza for an afternoon of family fun hosted by the Local Homeless Coalition in Ellis County. We&#39\;ll have pies to buy\, pies to throw\, pies to eat! Face Painting\, Bounce Houses\, Games and Live Music Visit with organizations and ministries that help the homeless and those living on the edge of homelessness. Enjoy some pie\, play some games and find out more about the assistance and solutions in Ellis County.
LOCATION:First United Methodist Church 505 West Marvin Avenue Waxahachie\, TX 75165
UID:e.2608.2953
SEQUENCE:3
DTSTAMP:20260423T171500Z
URL:https://business.ennis-chamber.com/events/details/pie-palooza-2953
END:VEVENT

END:VCALENDAR
