BEGIN:VCALENDAR
VERSION:2.0
PRODID:-//ChamberMaster//Event Calendar 2.0//EN
METHOD:PUBLISH
X-PUBLISHED-TTL:P3D
REFRESH-INTERVAL:P3D
CALSCALE:GREGORIAN
BEGIN:VEVENT
DTSTART:20171112T010000Z
DTEND:20171112T030000Z
X-MICROSOFT-CDO-ALLDAYEVENT:FALSE
SUMMARY:Philadelphia String Quartet
DESCRIPTION:Like classical music\, but don't know the difference between Bach and Beethoven? The Philadelphia String Quartet rocks Bach and plays their strings out to Coldplay. Enjoy classical music as well as classic hits by The Beatles\, Rolling Stones and Elton John. Sponsored by Waxahachie Symphony Association
X-ALT-DESC;FMTTYPE=text/html:Like classical music\, but don&rsquo\;t know the difference between Bach and Beethoven? The Philadelphia String Quartet rocks Bach and plays their strings out to Coldplay. Enjoy classical music as well as classic hits by The Beatles\, Rolling Stones and Elton John. Sponsored by Waxahachie Symphony Association
LOCATION:Chatauqua Auditorium 400 SOUTH GRAND AVE. WAXAHACHIE\, TX 75165
UID:e.2608.649
SEQUENCE:3
DTSTAMP:20260425T154004Z
URL:https://business.ennis-chamber.com/events/details/philadelphia-string-quartet-11-11-2017-649
END:VEVENT

END:VCALENDAR
