BEGIN:VCALENDAR
VERSION:2.0
PRODID:-//ChamberMaster//Event Calendar 2.0//EN
METHOD:PUBLISH
X-PUBLISHED-TTL:P3D
REFRESH-INTERVAL:P3D
CALSCALE:GREGORIAN
BEGIN:VEVENT
DTSTART:20190511T153000Z
DTEND:20190511T170000Z
X-MICROSOFT-CDO-ALLDAYEVENT:FALSE
SUMMARY:Pet Parade
DESCRIPTION:Pet Parade\n\nParade your pet (costumes optional) and bring them to the 5th annual Pet Parade!!
X-ALT-DESC;FMTTYPE=text/html:Pet Parade<br />\nParade your pet (costumes optional) and bring them to the 5th annual Pet Parade!!
LOCATION:Ennis Public Library 501 W. Ennis Ave Ennis\, TX 75119
UID:e.2608.2910
SEQUENCE:3
DTSTAMP:20260424T051901Z
URL:https://business.ennis-chamber.com/events/details/pet-parade-2910
END:VEVENT

END:VCALENDAR
