BEGIN:VCALENDAR
VERSION:2.0
PRODID:-//ChamberMaster//Event Calendar 2.0//EN
METHOD:PUBLISH
X-PUBLISHED-TTL:P3D
REFRESH-INTERVAL:P3D
CALSCALE:GREGORIAN
BEGIN:VEVENT
DTSTART:20190329T140000Z
DTEND:20190329T210000Z
X-MICROSOFT-CDO-ALLDAYEVENT:FALSE
SUMMARY:Ortho Day
DESCRIPTION:Welcoming New Patients & Free Orthodontics Consultation
X-ALT-DESC;FMTTYPE=text/html:Welcoming New Patients &amp\; Free Orthodontics Consultation
LOCATION:Ennis Family Dentistry & Orthodontics
UID:e.2608.2888
SEQUENCE:3
DTSTAMP:20260424T122114Z
URL:https://business.ennis-chamber.com/events/details/ortho-day-2888
END:VEVENT

END:VCALENDAR
