BEGIN:VCALENDAR
VERSION:2.0
PRODID:-//ChamberMaster//Event Calendar 2.0//EN
METHOD:PUBLISH
X-PUBLISHED-TTL:P3D
REFRESH-INTERVAL:P3D
CALSCALE:GREGORIAN
BEGIN:VEVENT
DTSTART:20191210T230000Z
DTEND:20191211T003000Z
X-MICROSOFT-CDO-ALLDAYEVENT:FALSE
SUMMARY:Open House for Rebecca Lucas\, DNP\, ARPN\, FNP-C
DESCRIPTION:Open House
X-ALT-DESC;FMTTYPE=text/html:Open House
LOCATION:Ennis Regional Medical Center 2203 W. Lampasas St.\, Suite 210 Ennis\, TX 75119
UID:e.2608.3226
SEQUENCE:3
DTSTAMP:20260423T173326Z
URL:https://business.ennis-chamber.com/events/details/open-house-for-rebecca-lucas-dnp-arpn-fnp-c-3226
END:VEVENT

END:VCALENDAR
