BEGIN:VCALENDAR
VERSION:2.0
PRODID:-//ChamberMaster//Event Calendar 2.0//EN
METHOD:PUBLISH
X-PUBLISHED-TTL:P3D
REFRESH-INTERVAL:P3D
CALSCALE:GREGORIAN
BEGIN:VEVENT
DTSTART:20190101T020000Z
DTEND:20190101T060000Z
X-MICROSOFT-CDO-ALLDAYEVENT:FALSE
SUMMARY:New Year's Eve Party!!!
DESCRIPTION:New Year's Party Featuring:\n\nThe Moravians Polka Band\n\n\n\nBlack-eyed peas and cornbread available at midnight
X-ALT-DESC;FMTTYPE=text/html:New Year&#39\;s Party Featuring:<br />\nThe Moravians Polka Band<br />\n<br />\nBlack-eyed peas and cornbread available at midnight
LOCATION:Sokol Activity Center 2622 E Hwy 34 Ennis\, TX 75119
UID:e.2608.2853
SEQUENCE:3
DTSTAMP:20260424T161849Z
URL:https://business.ennis-chamber.com/events/details/new-year-s-eve-party-2853
END:VEVENT

END:VCALENDAR
